BEGIN:VCALENDAR
VERSION:2.0
PRODID:-//Launceston to Hobart yacht race - ECPv4.6.1//NONSGML v1.0//EN
CALSCALE:GREGORIAN
METHOD:PUBLISH
X-WR-CALNAME:Launceston to Hobart yacht race
X-ORIGINAL-URL:https://l2h-dssinc.org.au
X-WR-CALDESC:Events for Launceston to Hobart yacht race
BEGIN:VEVENT
DTSTART;TZID=Australia/Hobart:20251227T100000
DTEND;TZID=Australia/Hobart:20251231T153000
DTSTAMP:20260424T194816
CREATED:20150910T130119Z
LAST-MODIFIED:20250813T032732Z
UID:28-1766829600-1767195000@l2h-dssinc.org.au
SUMMARY:Launceston to Hobart Yacht Race Start
DESCRIPTION:Departing on 27 December each year is the Launceston to Hobart yacht race. A 285 nautical mile race around the North East and East Coast of Tasmania featuring very competitive and challenging offshore competition. \n
URL:https://l2h-dssinc.org.au/event/l2h-2025/
LOCATION:Tasmania\, Australia
CATEGORIES:race events
ATTACH;FMTTYPE=image/jpeg:https://l2h-dssinc.org.au/wp-content/uploads/2015/09/The-Dog-House.jpg
ORGANIZER;CN="Derwent%20Sailing%20Squadron":MAILTO:sailing@dssinc.org.au
END:VEVENT
BEGIN:VEVENT
DTSTART;TZID=Australia/Hobart:20251231T123000
DTEND;TZID=Australia/Hobart:20251231T153000
DTSTAMP:20260424T194816
CREATED:20181227T060108Z
LAST-MODIFIED:20250813T033132Z
UID:1055-1767184200-1767195000@l2h-dssinc.org.au
SUMMARY:L2H Prize Presentaions
DESCRIPTION:Come and Celebrate the amazing efforts of ALL L2H competitors. \n
URL:https://l2h-dssinc.org.au/event/l2h-prize-presentaions-2/
LOCATION:Marieville Esplanade\, Sandy Bay\, Tasmania\, 7005\, Australia
CATEGORIES:race events
ATTACH;FMTTYPE=image/png:https://l2h-dssinc.org.au/wp-content/uploads/2018/12/L2H-Logo-2025-1.png
ORGANIZER;CN="Derwent%20Sailing%20Squadron":MAILTO:sailing@dssinc.org.au
END:VEVENT
END:VCALENDAR